BEGIN:VCALENDAR
CALSCALE:GREGORIAN
VERSION:2.0
PRODID:-//Events Calendar//iCal4j 1.0//EN
BEGIN:VTIMEZONE
TZID:Europe/Madrid
LAST-MODIFIED:20231222T233358Z
TZURL:https://www.tzurl.org/zoneinfo/Europe/Madrid
X-LIC-LOCATION:Europe/Madrid
X-PROLEPTIC-TZNAME:LMT
BEGIN:STANDARD
TZNAME:WET
TZOFFSETFROM:+001444
TZOFFSETTO:+0000
DTSTART:19001231T234516
END:STANDARD
BEGIN:DAYLIGHT
TZNAME:WEST
TZOFFSETFROM:+0000
TZOFFSETTO:+0100
DTSTART:19180415T230000
RDATE:19190406T230000
RDATE:19240416T230000
RDATE:19260417T230000
RDATE:19270409T230000
RDATE:19280415T000000
RDATE:19290420T230000
RDATE:19370616T230000
RDATE:19380402T230000
END:DAYLIGHT
BEGIN:STANDARD
TZNAME:WET
TZOFFSETFROM:+0100
TZOFFSETTO:+0000
DTSTART:19181007T010000
RRULE:FREQ=YEARLY;UNTIL=19191007T000000Z
END:STANDARD
BEGIN:STANDARD
TZNAME:WET
TZOFFSETFROM:+0100
TZOFFSETTO:+0000
DTSTART:19241005T010000
RDATE:19371003T010000
RDATE:19391008T010000
END:STANDARD
BEGIN:STANDARD
TZNAME:WET
TZOFFSETFROM:+0100
TZOFFSETTO:+0000
DTSTART:19261003T010000
RRULE:FREQ=YEARLY;UNTIL=19291006T000000Z;BYMONTH=10;BYMONTHDAY=2,3,4,5,6,7,
 8;BYDAY=SU
END:STANDARD
BEGIN:DAYLIGHT
TZNAME:WEMT
TZOFFSETFROM:+0100
TZOFFSETTO:+0200
DTSTART:19380430T230000
END:DAYLIGHT
BEGIN:DAYLIGHT
TZNAME:WEST
TZOFFSETFROM:+0200
TZOFFSETTO:+0100
DTSTART:19381003T000000
END:DAYLIGHT
BEGIN:STANDARD
TZNAME:CET
TZOFFSETFROM:+0000
TZOFFSETTO:+0100
DTSTART:19400316T230000
END:STANDARD
BEGIN:DAYLIGHT
TZNAME:CEST
TZOFFSETFROM:+0100
TZOFFSETTO:+0200
DTSTART:19420502T230000
RDATE:19490430T230000
RDATE:19760327T230000
RDATE:19770402T230000
RDATE:19780402T020000
END:DAYLIGHT
BEGIN:STANDARD
TZNAME:CET
TZOFFSETFROM:+0200
TZOFFSETTO:+0100
DTSTART:19420901T010000
RDATE:19491002T010000
RDATE:19781001T030000
END:STANDARD
BEGIN:DAYLIGHT
TZNAME:CEST
TZOFFSETFROM:+0100
TZOFFSETTO:+0200
DTSTART:19430417T230000
RRULE:FREQ=YEARLY;UNTIL=19460413T220000Z;BYMONTH=4;BYMONTHDAY=13,14,15,16,1
 7,18,19;BYDAY=SA
END:DAYLIGHT
BEGIN:STANDARD
TZNAME:CET
TZOFFSETFROM:+0200
TZOFFSETTO:+0100
DTSTART:19431003T010000
RRULE:FREQ=YEARLY;UNTIL=19440930T230000Z;BYMONTH=10;BYDAY=1SU
END:STANDARD
BEGIN:STANDARD
TZNAME:CET
TZOFFSETFROM:+0200
TZOFFSETTO:+0100
DTSTART:19450930T010000
RRULE:FREQ=YEARLY;UNTIL=19460928T230000Z;BYMONTH=9;BYDAY=-1SU
END:STANDARD
BEGIN:DAYLIGHT
TZNAME:CEST
TZOFFSETFROM:+0100
TZOFFSETTO:+0200
DTSTART:19740413T230000
RRULE:FREQ=YEARLY;UNTIL=19750412T220000Z;BYMONTH=4;BYMONTHDAY=12,13,14,15,1
 6,17,18;BYDAY=SA
END:DAYLIGHT
BEGIN:STANDARD
TZNAME:CET
TZOFFSETFROM:+0200
TZOFFSETTO:+0100
DTSTART:19741006T010000
RRULE:FREQ=YEARLY;UNTIL=19751004T230000Z;BYMONTH=10;BYDAY=1SU
END:STANDARD
BEGIN:STANDARD
TZNAME:CET
TZOFFSETFROM:+0200
TZOFFSETTO:+0100
DTSTART:19760926T010000
RRULE:FREQ=YEARLY;UNTIL=19770924T230000Z;BYMONTH=9;BYDAY=-1SU
END:STANDARD
BEGIN:STANDARD
TZNAME:CET
TZOFFSETFROM:+0100
TZOFFSETTO:+0100
DTSTART:19790101T000000
END:STANDARD
BEGIN:DAYLIGHT
TZNAME:CEST
TZOFFSETFROM:+0100
TZOFFSETTO:+0200
DTSTART:19790401T020000
RRULE:FREQ=YEARLY;UNTIL=19800406T010000Z;BYMONTH=4;BYDAY=1SU
END:DAYLIGHT
BEGIN:STANDARD
TZNAME:CET
TZOFFSETFROM:+0200
TZOFFSETTO:+0100
DTSTART:19790930T030000
RRULE:FREQ=YEARLY;UNTIL=19950924T010000Z;BYMONTH=9;BYDAY=-1SU
END:STANDARD
BEGIN:DAYLIGHT
TZNAME:CEST
TZOFFSETFROM:+0100
TZOFFSETTO:+0200
DTSTART:19810329T020000
RRULE:FREQ=YEARLY;BYMONTH=3;BYDAY=-1SU
END:DAYLIGHT
BEGIN:STANDARD
TZNAME:CET
TZOFFSETFROM:+0200
TZOFFSETTO:+0100
DTSTART:19961027T030000
RRULE:FREQ=YEARLY;BYMONTH=10;BYDAY=-1SU
END:STANDARD
END:VTIMEZONE
BEGIN:VEVENT
DTSTAMP:20240114T003101Z
DTSTART;TZID=Europe/Madrid:20230907T160000
DTEND;TZID=Europe/Madrid:20230907T170000
SUMMARY:Content Submission: Why aren’t my tests stable? - Test Isolation wi
 th the ABAP Unit Framework
LAST-MODIFIED:20240114T003101Z
LOCATION:
TZID:Europe/Madrid
UID:message-255
DESCRIPTION:Click the link below to go to the event page:\nhttps://groups.c
 ommunity.sap.com/t5/sap-community/content-submission-why-aren-t-my-tests-s
 table-test-isolation-with-the-abap/ec-p/276634#M255\n\nTest isolation can 
 be challenging\, right? In this session\, the expert will share why test i
 solation is helpful\, and clarify terms in this area\, leading to a quick 
 introduction into the general concept of dependency injection\, the core o
 f test isolation\, and much more. Speaker: Michael Sauter\, Agile Software
  Engineer at SAP Link to stream:  https://www.youtube.com/watch?v=Duwd6Du7
 lM0  
END:VEVENT
END:VCALENDAR
